BEGIN:VCALENDAR
VERSION:2.0
PRODID:-//Evangelisch-Freikirchliche Gemeinde Fürstenwalde - ECPv6.15.20//NONSGML v1.0//EN
CALSCALE:GREGORIAN
METHOD:PUBLISH
X-WR-CALNAME:Evangelisch-Freikirchliche Gemeinde Fürstenwalde
X-ORIGINAL-URL:https://efg-fuerstenwalde.de
X-WR-CALDESC:Veranstaltungen für Evangelisch-Freikirchliche Gemeinde Fürstenwalde
REFRESH-INTERVAL;VALUE=DURATION:PT1H
X-Robots-Tag:noindex
X-PUBLISHED-TTL:PT1H
BEGIN:VTIMEZONE
TZID:Europe/Berlin
BEGIN:DAYLIGHT
TZOFFSETFROM:+0100
TZOFFSETTO:+0200
TZNAME:CEST
DTSTART:20250330T010000
END:DAYLIGHT
BEGIN:STANDARD
TZOFFSETFROM:+0200
TZOFFSETTO:+0100
TZNAME:CET
DTSTART:20251026T010000
END:STANDARD
BEGIN:DAYLIGHT
TZOFFSETFROM:+0100
TZOFFSETTO:+0200
TZNAME:CEST
DTSTART:20260329T010000
END:DAYLIGHT
BEGIN:STANDARD
TZOFFSETFROM:+0200
TZOFFSETTO:+0100
TZNAME:CET
DTSTART:20261025T010000
END:STANDARD
BEGIN:DAYLIGHT
TZOFFSETFROM:+0100
TZOFFSETTO:+0200
TZNAME:CEST
DTSTART:20270328T010000
END:DAYLIGHT
BEGIN:STANDARD
TZOFFSETFROM:+0200
TZOFFSETTO:+0100
TZNAME:CET
DTSTART:20271031T010000
END:STANDARD
END:VTIMEZONE
BEGIN:VEVENT
DTSTART;TZID=Europe/Berlin:20260419T100000
DTEND;TZID=Europe/Berlin:20260419T113000
DTSTAMP:20260420T234552
CREATED:20260206T074152Z
LAST-MODIFIED:20260403T160941Z
UID:2989-1776592800-1776598200@efg-fuerstenwalde.de
SUMMARY:Gottesdienst | Predigt: Thomas Holtz
DESCRIPTION:
URL:https://efg-fuerstenwalde.de/veranstaltung/gottesdienst-predigt-thomas-holtz/
LOCATION:Domnotkirche\, Geschwister-Scholl-Str. 4\, Fürstenwalde\, Brandenburg\, 15517
END:VEVENT
BEGIN:VEVENT
DTSTART;TZID=Europe/Berlin:20260418T100000
DTEND;TZID=Europe/Berlin:20260418T150000
DTSTAMP:20260420T234552
CREATED:20260403T160825Z
LAST-MODIFIED:20260403T160825Z
UID:3069-1776506400-1776524400@efg-fuerstenwalde.de
SUMMARY:Regionaltag „Ostbrandenburg“ - Thema: GOTTES Stimme hören | Referent: Philipp Rüdiger
DESCRIPTION:
URL:https://efg-fuerstenwalde.de/veranstaltung/regionaltag-ostbrandenburg-thema-gottes-stimme-hoeren-referent-philipp-ruediger/
LOCATION:Domnotkirche\, Geschwister-Scholl-Str. 4\, Fürstenwalde\, Brandenburg\, 15517
END:VEVENT
BEGIN:VEVENT
DTSTART;TZID=Europe/Berlin:20260416T110000
DTEND;TZID=Europe/Berlin:20260416T123000
DTSTAMP:20260420T234552
CREATED:20250104T155338Z
LAST-MODIFIED:20260403T160525Z
UID:2337-1776337200-1776342600@efg-fuerstenwalde.de
SUMMARY:Handarbeitskreis
DESCRIPTION:
URL:https://efg-fuerstenwalde.de/veranstaltung/handarbeitskreis/
LOCATION:Domnotkirche\, Geschwister-Scholl-Str. 4\, Fürstenwalde\, Brandenburg\, 15517
END:VEVENT
BEGIN:VEVENT
DTSTART;TZID=Europe/Berlin:20260416T100000
DTEND;TZID=Europe/Berlin:20260416T110000
DTSTAMP:20260420T234552
CREATED:20240401T095038Z
LAST-MODIFIED:20260403T160456Z
UID:1882-1776333600-1776337200@efg-fuerstenwalde.de
SUMMARY:Gebetszeit
DESCRIPTION:
URL:https://efg-fuerstenwalde.de/veranstaltung/gebetszeit-6/
LOCATION:Domnotkirche\, Geschwister-Scholl-Str. 4\, Fürstenwalde\, Brandenburg\, 15517
END:VEVENT
BEGIN:VEVENT
DTSTART;TZID=Europe/Berlin:20260412T100000
DTEND;TZID=Europe/Berlin:20260412T113000
DTSTAMP:20260420T234552
CREATED:20250704T061742Z
LAST-MODIFIED:20260403T160418Z
UID:2645-1775988000-1775993400@efg-fuerstenwalde.de
SUMMARY:Gottesdienst | Predigt: Burkhard Eisen
DESCRIPTION:
URL:https://efg-fuerstenwalde.de/veranstaltung/gottesdienst-mit-abendmahl-predigt-thomas-holtz/
LOCATION:Domnotkirche\, Geschwister-Scholl-Str. 4\, Fürstenwalde\, Brandenburg\, 15517
END:VEVENT
BEGIN:VEVENT
DTSTART;TZID=Europe/Berlin:20260409T110000
DTEND;TZID=Europe/Berlin:20260409T123000
DTSTAMP:20260420T234552
CREATED:20240401T094102Z
LAST-MODIFIED:20260403T160303Z
UID:1874-1775732400-1775737800@efg-fuerstenwalde.de
SUMMARY:Handarbeitskreis
DESCRIPTION:
URL:https://efg-fuerstenwalde.de/veranstaltung/handarbeitskreis-6/
LOCATION:Domnotkirche\, Geschwister-Scholl-Str. 4\, Fürstenwalde\, Brandenburg\, 15517
END:VEVENT
BEGIN:VEVENT
DTSTART;TZID=Europe/Berlin:20260409T100000
DTEND;TZID=Europe/Berlin:20260409T110000
DTSTAMP:20260420T234552
CREATED:20250104T155025Z
LAST-MODIFIED:20260403T160130Z
UID:2333-1775728800-1775732400@efg-fuerstenwalde.de
SUMMARY:Gebetszeit
DESCRIPTION:
URL:https://efg-fuerstenwalde.de/veranstaltung/gebetszeit-3/
LOCATION:Domnotkirche\, Geschwister-Scholl-Str. 4\, Fürstenwalde\, Brandenburg\, 15517
END:VEVENT
BEGIN:VEVENT
DTSTART;TZID=Europe/Berlin:20260405T100000
DTEND;TZID=Europe/Berlin:20260405T113000
DTSTAMP:20260420T234552
CREATED:20251231T125612Z
LAST-MODIFIED:20260402T082628Z
UID:2936-1775383200-1775388600@efg-fuerstenwalde.de
SUMMARY:Ostergottesdienst | Predigt: Inge Clausonet
DESCRIPTION:
URL:https://efg-fuerstenwalde.de/veranstaltung/gottesdienst-predigt-jens-peter-erichsen/
LOCATION:Domnotkirche\, Geschwister-Scholl-Str. 4\, Fürstenwalde\, Brandenburg\, 15517
END:VEVENT
BEGIN:VEVENT
DTSTART;TZID=Europe/Berlin:20260403T150000
DTEND;TZID=Europe/Berlin:20260403T160000
DTSTAMP:20260420T234552
CREATED:20260402T082409Z
LAST-MODIFIED:20260402T082409Z
UID:3038-1775228400-1775232000@efg-fuerstenwalde.de
SUMMARY:Karfreitag - Gottesdienst mit Abendmahl | Andacht: Inge Clausonet
DESCRIPTION:
URL:https://efg-fuerstenwalde.de/veranstaltung/karfreitag-gottesdienst-mit-abendmahl-andacht-inge-clausonet/
LOCATION:Domnotkirche\, Geschwister-Scholl-Str. 4\, Fürstenwalde\, Brandenburg\, 15517
END:VEVENT
END:VCALENDAR